BEGIN:VCALENDAR
VERSION:2.0
PRODID:-//wp-events-plugin.com//7.2.3.1//EN
BEGIN:VEVENT
UID:60@dorf-ahlerstedt.de
DTSTART;TZID=Europe/Berlin:20270108T150000
DTEND;TZID=Europe/Berlin:20270108T170000
DTSTAMP:20251230T094653Z
URL:https://dorf-ahlerstedt.de/events/repair-cafe-ahlerstedt-2026-02-13-20
 26-03-13-2026-04-10-2026-05-08-2026-06-12-2026-07-10-2026-08-14-2026-09-11
 -2026-10-09-2026-11-13-2026-12-11-2027-01-08/
SUMMARY:Repair Café Ahlerstedt
DESCRIPTION:Reparieren statt Wegwerfen.\nSie kennen das?... die Nähmaschin
 e möchte nicht mehr\, der Rasenmäher tuckert nur noch vor sich hin oder 
 das alt geliebte Radio bringt keinen Ton mehr heraus..\n\nIn diesen Fall m
 elden Sie sich einfach bei uns.\n\nWir beschauen\, beschnacken und im best
 en Fall reparieren wir Ihr Gerät\, damit sie noch lange Freude an ihm hab
 en.\n\nAlso schauen Sie gerne vorbei!
CATEGORIES:Repair Café
LOCATION:Gemeindehaus\, Stader Straße 33\, Ahlerstedt\, Niedersachsen\, 21
 702\, Deutschland
X-APPLE-STRUCTURED-LOCATION;VALUE=URI;X-ADDRESS=Stader Straße 33\, Ahlerst
 edt\, Niedersachsen\, 21702\, Deutschland;X-APPLE-RADIUS=100;X-TITLE=Gemei
 ndehaus:geo:0,0
END:VEVENT
BEGIN:VTIMEZONE
TZID:Europe/Berlin
X-LIC-LOCATION:Europe/Berlin
BEGIN:STANDARD
DTSTART:20261025T020000
TZOFFSETFROM:+0200
TZOFFSETTO:+0100
TZNAME:CET
END:STANDARD
END:VTIMEZONE
END:VCALENDAR