BEGIN:VCALENDAR
VERSION:2.0
PRODID:-//wp-events-plugin.com//7.2.3.1//EN
BEGIN:VEVENT
UID:42@dorf-ahlerstedt.de
DTSTART;TZID=Europe/Berlin:20260314T090000
DTEND;TZID=Europe/Berlin:20260314T140000
DTSTAMP:20260226T164918Z
URL:https://dorf-ahlerstedt.de/events/muellsammelaktion-ahlerstedt-2/
SUMMARY:Müllsammelaktion Ahlerstedt
DESCRIPTION:Einladung zur Müllsammel-Aktion\nAuch in diesem Jahr wollen wi
 r wieder unsere Straßen und Wege vom Müll befreien. Treffpunkt ist wie g
 ehabt um 09:00 Uhr bei Bauhof. Von dort werden wir in Gruppen verschiedene
  Bereiche säubern. Die Feuerwehr wird\, wie auch in den letzten Jahren\, 
 uns tatkräftig bei dieser Aktion unterstützen. Für Getränke und warme 
 Verpflegung ist gesorgt!\n\nWir freuen uns auf eine große Teilnahme.\n\n2
 026_Müllsammelaktion-1
CATEGORIES:DEV,DEV-Arbeitseinsatz
LOCATION:Bauhof Ahlerstedt\, Kleine Kamp 8\, Ahlerstedt\, Niedersachsen\, 2
 1702\, Deutschland
X-APPLE-STRUCTURED-LOCATION;VALUE=URI;X-ADDRESS=Kleine Kamp 8\, Ahlerstedt\
 , Niedersachsen\, 21702\, Deutschland;X-APPLE-RADIUS=100;X-TITLE=Bauhof Ah
 lerstedt:geo:0,0
END:VEVENT
BEGIN:VTIMEZONE
TZID:Europe/Berlin
X-LIC-LOCATION:Europe/Berlin
BEGIN:STANDARD
DTSTART:20251026T020000
TZOFFSETFROM:+0200
TZOFFSETTO:+0100
TZNAME:CET
END:STANDARD
END:VTIMEZONE
END:VCALENDAR