BEGIN:VCALENDAR
VERSION:2.0
PRODID:-//wp-events-plugin.com//7.2.3.1//EN
BEGIN:VEVENT
UID:43@dorf-ahlerstedt.de
DTSTART;TZID=Europe/Berlin:20260317T193000
DTEND;TZID=Europe/Berlin:20260317T220000
DTSTAMP:20251230T093941Z
URL:https://dorf-ahlerstedt.de/events/jahreshauptversammlung-2/
SUMMARY:Jahreshauptversammlung
DESCRIPTION:
CATEGORIES:DEV
LOCATION:Klönstuv\, Holzhäuser Straße 16a\, Ahlerstedt\, Niedersachsen\,
  21702\, Deutschland
X-APPLE-STRUCTURED-LOCATION;VALUE=URI;X-ADDRESS=Holzhäuser Straße 16a\, A
 hlerstedt\, Niedersachsen\, 21702\, Deutschland;X-APPLE-RADIUS=100;X-TITLE
 =Klönstuv:geo:0,0
END:VEVENT
BEGIN:VTIMEZONE
TZID:Europe/Berlin
X-LIC-LOCATION:Europe/Berlin
BEGIN:STANDARD
DTSTART:20251026T020000
TZOFFSETFROM:+0200
TZOFFSETTO:+0100
TZNAME:CET
END:STANDARD
END:VTIMEZONE
END:VCALENDAR